BEGIN:VCALENDAR
VERSION:2.0
PRODID:Events Booking
BEGIN:VEVENT
UID:69e76daa98f16
SUMMARY:B2D in Beilngries
DESCRIPTION:
LOCATION:Hauptstraße\, 92339 Beilngries\, Deutschland
DTSTART:20260430T220000Z
DTEND:20260502T220000Z
DTSTAMP:20260106T193949Z
ORGANIZER;CN=H.O.G. Niederbayern Chapter e.V.:MAILTO:webmaster@niederbayern
 -chapter.de
GEO:49.034943;11.474254
X-APPLE-STRUCTURED-LOCATION;VALUE=URI;X-ADDRESS=Hauptstraße\, 92339 Beilng
 ries\, Deutschland;X-APPLE-RADIUS=72;X-TITLE=Beilngries:49.034943;11.47425
 4
END:VEVENT
END:VCALENDAR