BEGIN:VCALENDAR
VERSION:2.0
PRODID:Events Booking
BEGIN:VEVENT
UID:69e77ec2ecf2c
SUMMARY:Toskana-Tour - Monument Chapter
DESCRIPTION:
LOCATION:Geographic South Pole\, Antarctic Plateau\, Antarktis
DTSTART:20260509T220000Z
DTEND:20260515T220000Z
DTSTAMP:20260120T072549Z
ORGANIZER;CN=H.O.G. Niederbayern Chapter e.V.:MAILTO:webmaster@niederbayern
 -chapter.de
GEO:-83.31148;-16.350706
X-APPLE-STRUCTURED-LOCATION;VALUE=URI;X-ADDRESS=Geographic South Pole\, Ant
 arctic Plateau\, Antarktis;X-APPLE-RADIUS=72;X-TITLE=Info folgt:-83.31148;
 -16.350706
END:VEVENT
END:VCALENDAR