BEGIN:VCALENDAR
VERSION:2.0
PRODID:Events Booking
BEGIN:VEVENT
UID:69e76dca10856
SUMMARY:Benefiz–Event Steyr–Bad Hall
DESCRIPTION:Dieser mittlerweile schon traditionelle Saisonauftakt bringt je
 des Jahr unzählige Motorrad- und Zweirad-Freunde auf die Straße.Ab 10 U
 hr pulsiert der Stadtplatz in Steyr – Stimmung\, Sound und jede Menge
  Zwei-Rad-Faszination.Um 14 Uhr startet die gemeinsame Ausfahrt nach Ba
 d Hall.Lasst uns gemeinsam in den Mai starten – für den guten Zweck un
 d zugunsten der HDCT!
 https://www.hdct.at/mitmachen/benefiz-event-steyr-
 bad-hall
DTSTART:20260501T080000Z
DTEND:20260501T210000Z
DTSTAMP:20260106T191124Z
ORGANIZER;CN=H.O.G. Niederbayern Chapter e.V.:MAILTO:webmaster@niederbayern
 -chapter.de
END:VEVENT
END:VCALENDAR