BEGIN:VCALENDAR
VERSION:2.0
PRODID:Events Booking
BEGIN:VEVENT
UID:69e77ea7bf066
SUMMARY:LOH - Schrauberschulung
DESCRIPTION:Infos folgen in Kürze.
LOCATION:Deggendorfer Str. 15\, 94374 Schwarzach\, Deutschland
DTSTART:20260328T080000Z
DTEND:20260228T120000Z
DTSTAMP:20260227T121106Z
ORGANIZER;CN=H.O.G. Niederbayern Chapter e.V.:MAILTO:webmaster@niederbayern
 -chapter.de
GEO:48.913001;12.808994
X-APPLE-STRUCTURED-LOCATION;VALUE=URI;X-ADDRESS=Deggendorfer Str. 15\, 9437
 4 Schwarzach\, Deutschland;X-APPLE-RADIUS=72;X-TITLE=Harley-Davidson Schwa
 rzach:48.913001;12.808994
END:VEVENT
END:VCALENDAR