BEGIN:VCALENDAR
VERSION:2.0
PRODID:Events Booking
BEGIN:VEVENT
UID:69e76d58da1f4
SUMMARY:Stammtisch \"Westermeier\"
DESCRIPTION:
LOCATION:Blumberg 11\, 84166 Adlkofen\, Germany
DTSTART:20260424T170000Z
DTEND:20260424T210000Z
DTSTAMP:20260227T104055Z
ORGANIZER;CN=H.O.G. Niederbayern Chapter e.V.:MAILTO:webmaster@niederbayern
 -chapter.de
GEO:48.552886;12.276941
X-APPLE-STRUCTURED-LOCATION;VALUE=URI;X-ADDRESS=Blumberg 11\, 84166 Adlkofe
 n\, Germany;X-APPLE-RADIUS=72;X-TITLE=Gasthaus Westermeier Blumberg:48.552
 886;12.276941
END:VEVENT
END:VCALENDAR